BEGIN:VCALENDAR
VERSION:2.0
PRODID:-//wp-events-plugin.com//5.92//EN
BEGIN:VEVENT
UID:102@abial.lu
DTSTART;TZID=Europe/Luxembourg:20210128T120000
DTEND;TZID=Europe/Luxembourg:20210128T140000
DTSTAMP:20201112T204340Z
URL:http://www.abial.lu/events/tax-event-2/
SUMMARY:Tax Event
DESCRIPTION:SAVE THE DATE\n\n&nbsp\;\n\nChristina Leomy-Voigt will be takin
 g us through 2021 new tax measures
END:VEVENT
BEGIN:VTIMEZONE
TZID:Europe/Luxembourg
X-LIC-LOCATION:Europe/Luxembourg
BEGIN:STANDARD
DTSTART:20201025T010000
TZOFFSETFROM:+0200
TZOFFSETTO:+0100
TZNAME:CET
END:STANDARD
END:VTIMEZONE
END:VCALENDAR